Workbook

Sheet Hinweise zum Ausfüllen
A1: Hinweise zum Führen des Arbeitszeitkontos
A3: 1. | B3: Es sind ausschließlich die grünen Felder auszufüllen; die Berechnungen der Summen und Saldi erfolgt automatisch.
B4: Über die TABSTOPP-Taste gelangt man jeweils in das nächste grüne Feld.
A6: 2. | B6: Der Stand des Zeitguthabens in Dezimalzahl ist nur im Januar manuell einzutragen. Der Wert zum Ende des Monats Dezember des Vorjahres ist somit manuell zu übetragen.
B7: Die Übertragung der Saldenstände zum Ende eines Monats wird in die übrigen Monate erfolgt automatisch.
B8: Bei der Umrechnung von Stunden/Minuten in Dezimal gilt folgende Berechnung für die Ermittlung der "Nachkommastellen":
B9: Minuten : 60 = Nachkommastellen
A11: 3. | B11: Bei Erfassung der Arbeitszeiten (im Soll und Ist), ist folgende Schreibweise erforderlich: z. B. für 7.30 Uhr = 7:30, also Trennung von Stunden und
B12: Minuten mit einem Doppelpunkt.
B13: Pausen von mindestens 30 Minuten sind spätestens nach einer durchgehenden Arbeitszeit von 6 Stunden zu machen; bei einer täglichen Arbeitszeit von mindestens 9 Stunden
B14: beträgt die Pausenzeit mindestens 45 Minuten.
B15: Daher können in dem Formular je Tag bis zu 3 Zeitabschnite erfasst werden; wird also eine Pause gemacht, ist im 1. Abschnitt die Zeit des Pausenbeginns als "bis"-Zeit
B16: und nach Ende der Pause im 2. Zeitabschnitt die Zeit der Wiederaufnahme der Tätigket als "von"-Zeit zu erfassen.
A18: 4. | B18: Die Arbeitszeit der Kirchenmusiker/innen ist nach in der Anlage des BAT-KF geregelten Stundenpauschalen je Dienst festgelegt; darin enthalten sind auch entsprechende
B19: Übungs-/Vorbereitungszeiten.
B20: Es sind die arbeitsvertraglich vereinbarten Übungs-/Vorbereitungszeiten einzuhalten. Darüber hinausgehende Übungs-/Vorbereitungszeiten erfordern die vorherige Absprache
B21: mit dem Arbeitgeber; dies ist insbesondere dann der Fall wenn aufgrund besonderer Veranstaltungen eine höhere Übungs-/Vorbereitungszeit erforderlich ist.
A23: 5. | B23: Bei Urlaub / Krankheit / Feiertag, der sonst Arbeitstag wäre, ist die tägliche Soll-Arbeitszeit zu erfassen - gleichzeitig ist derselbe Wert an dem
B24: betreffenden Tag auch in der Ist-Arbeitszeit auszuweisen, auch wenn hier tatsächlich nicht gearbeitet wurde!
B25: Die zu erfassende Zeit "von" / "bis" muss im Ergebnis somit die Soll-Arbeitszeit haben.
B26: Abweichend davon kann wahlweise auch das Feld Soll Arbeitszeit frei gelassen werden.
B27: Bei Bemerkungen ist der Grund der Fehlzeit anzugeben.
A29: 6. | B29: Mindestlohngesetz
B30: Die über die vereinbarte wöchentliche Arbeitszeit hinausgehenden geleisteten Stunden sind spätestens innerhalb von 12 Kalendermonaten nach ihrer
B31: Erfassung durch Freizeitausgleich oder Abgeltung auszugleichen
B32: Die auf das Arbeitszeitkonto eingestellten Arbeitsstunden dürfen monatlich jeweils 50 % der vertraglich vereinbarten Arbeitszeit nicht übersteigen.
A34: 7. | B34: Geringfügig Beschäftigte
B35: Mit den Arbeitszeitkonten werden die nach dem Mindestlohngesetz vorgeschriebenen Arbeitszeitnachweise geführt. Hierfür besteht eine Aufbewahrungs-
B36: pflicht von mindestens 2 Jahren.
B37: Bei erheblichen Arbeitszeitschwankungen kann evtl. eine sozialversicherungspflichtige Tätigkeit vorliegen. Dies ist z. B. dann der Fall, wenn die vertraglich
B38: vereinbarte durchschnittliche wöchentliche Arbeitszeit sich in der tatsächlichen Ableistung lediglich auf wenige Monate eines Jahres konzentriert und
B39: das entsprechende Entgelt nach der tatsächlichen Arbeitsleistung in den betreffenden Monaten über 450,00 EURO monatlich liegt.
A41: 8. | B41: Für jedes Kalenderjahr ist eine neue Excel-Datei zu erstellen; dabei ist im Januar in dem Feld "Zeitguthaben Vormonat (Dezimal)" das Zeitguthaben zum 31.12. des Vorjahes
B42: manuell einzutragen.
A44: Stand: 08.12.2016

Sheet Januar
A1: Arbeitszeitkonto | I1: Monat/Jahr | J1: 45292
A3: Arbeitgeber:
A5: Name: | F5: Vorname:
A6: Tätigkeit:
A7: vereinbarte durchschnittliche wöchentliche Arbeitszeit: | C7: dezimal | D7: 39 | E7: das entspricht in Std./Minuten: | G7: =D7/24 -> 1.625 | I7: Zeitguthaben Vormonat (Dezimal)
B9: Arbeitszeit (Soll) | C9: Mitarbeiter kommt/geht (Uhrzeit) - ohne Pause - 1. Abschnitt | E9: Mitarbeiter kommt/geht (Uhrzeit) - ohne Pause - 2. Abschnitt | G9: Mitarbeiter kommt/geht (Uhrzeit) - ohne Pause - 3. Abschnitt | I9: Summen (Ist) täglich / gesamt ohne Pausen | J9: Saldo Soll / Ist | L9: Bemerkungen
A10: Datum | B10: Std. / Minuten | C10: von | D10: bis | E10: von | F10: bis | G10: von | H10: bis | I10: Std. / Minuten | J10: Dezimal
A11: 1. | I11: =((MOD(D11-C11,1))+(MOD(F11-E11,1))+(MOD(H11-G11,1))) -> 0 | J11: =(I11-B11)*24 -> 0
A12: 2. | I12: =((MOD(D12-C12,1))+(MOD(F12-E12,1))+(MOD(H12-G12,1))) -> 0 | J12: =(I12-B12)*24 -> 0
A13: 3. | I13: =((MOD(D13-C13,1))+(MOD(F13-E13,1))+(MOD(H13-G13,1))) -> 0 | J13: =(I13-B13)*24 -> 0
A14: 4. | I14: =((MOD(D14-C14,1))+(MOD(F14-E14,1))+(MOD(H14-G14,1))) -> 0 | J14: =(I14-B14)*24 -> 0
A15: 5. | I15: =((MOD(D15-C15,1))+(MOD(F15-E15,1))+(MOD(H15-G15,1))) -> 0 | J15: =(I15-B15)*24 -> 0
A16: 6. | I16: =((MOD(D16-C16,1))+(MOD(F16-E16,1))+(MOD(H16-G16,1))) -> 0 | J16: =(I16-B16)*24 -> 0
A17: 7. | I17: =((MOD(D17-C17,1))+(MOD(F17-E17,1))+(MOD(H17-G17,1))) -> 0 | J17: =(I17-B17)*24 -> 0
A18: 8. | I18: =((MOD(D18-C18,1))+(MOD(F18-E18,1))+(MOD(H18-G18,1))) -> 0 | J18: =(I18-B18)*24 -> 0
A19: 9. | I19: =((MOD(D19-C19,1))+(MOD(F19-E19,1))+(MOD(H19-G19,1))) -> 0 | J19: =(I19-B19)*24 -> 0
A20: 10. | I20: =((MOD(D20-C20,1))+(MOD(F20-E20,1))+(MOD(H20-G20,1))) -> 0 | J20: =(I20-B20)*24 -> 0
A21: 11. | I21: =((MOD(D21-C21,1))+(MOD(F21-E21,1))+(MOD(H21-G21,1))) -> 0 | J21: =(I21-B21)*24 -> 0
A22: 12. | I22: =((MOD(D22-C22,1))+(MOD(F22-E22,1))+(MOD(H22-G22,1))) -> 0 | J22: =(I22-B22)*24 -> 0
... A41: 31. | I41: =((MOD(D41-C41,1))+(MOD(F41-E41,1))+(MOD(H41-G41,1))) -> 0 | J41: =(I41-B41)*24 -> 0
G42: Gesamt Monat | I42: =SUM(I11:I41) -> 0 | J42: =SUM(J11:J41) -> 0
L43: Nebenrechnung
A44: Ort und Datum | G44: Zeitguthaben neu - Übertrag Folgemonat (Dezimal) | J44: =J7+J42 -> 0 | L44: =ROUNDDOWN(J44,0) -> 0
G45: Das sind | I45: Stunden: | J45: =L44 -> 0 | L45: =J44-L44 -> 0
I46: und Minuten: | J46: =ROUND(L46,0) -> 0 | L46: =L45*60 -> 0
A47: Unterschrift Arbeitgeber
A51: Unterschrift Mitarbeiter/in

Sheet Februar
A1: Arbeitszeitkonto | I1: Monat/Jahr | J1: 45323
A3: Arbeitgeber: | B3: =Januar!B3 -> 0
A5: Name: | B5: =Januar!B5 -> 0 | F5: Vorname: | G5: =Januar!G5 -> 0
A6: Tätigkeit: | B6: =Januar!B6 -> 0
A7: vereinbarte durchschnittliche wöchentliche Arbeitszeit: | C7: dezimal | D7: =Januar!D7 -> 39 | E7: das entspricht in Std./Minuten: | G7: =D7/24 -> 1.625 | I7: Zeitguthaben Vormonat (Dezimal) | J7: =Januar!J44 -> 0
B9: Arbeitszeit (Soll) | C9: Mitarbeiter kommt/geht (Uhrzeit) - ohne Pause - 1. Abschnitt | E9: Mitarbeiter kommt/geht (Uhrzeit) - ohne Pause - 2. Abschnitt | G9: Mitarbeiter kommt/geht (Uhrzeit) - ohne Pause - 3. Abschnitt | I9: Summen (Ist) täglich / gesamt ohne Pausen | J9: Saldo Soll / Ist | L9: Bemerkungen
A10: Datum | B10: Std. / Minuten | C10: von | D10: bis | E10: von | F10: bis | G10: von | H10: bis | I10: Std. / Minuten | J10: Dezimal
A11: 1. | I11: =((MOD(D11-C11,1))+(MOD(F11-E11,1))+(MOD(H11-G11,1))) -> 0 | J11: =(I11-B11)*24 -> 0
A12: 2. | I12: =((MOD(D12-C12,1))+(MOD(F12-E12,1))+(MOD(H12-G12,1))) -> 0 | J12: =(I12-B12)*24 -> 0
A13: 3. | I13: =((MOD(D13-C13,1))+(MOD(F13-E13,1))+(MOD(H13-G13,1))) -> 0 | J13: =(I13-B13)*24 -> 0
A14: 4. | I14: =((MOD(D14-C14,1))+(MOD(F14-E14,1))+(MOD(H14-G14,1))) -> 0 | J14: =(I14-B14)*24 -> 0
A15: 5. | I15: =((MOD(D15-C15,1))+(MOD(F15-E15,1))+(MOD(H15-G15,1))) -> 0 | J15: =(I15-B15)*24 -> 0
A16: 6. | I16: =((MOD(D16-C16,1))+(MOD(F16-E16,1))+(MOD(H16-G16,1))) -> 0 | J16: =(I16-B16)*24 -> 0
A17: 7. | I17: =((MOD(D17-C17,1))+(MOD(F17-E17,1))+(MOD(H17-G17,1))) -> 0 | J17: =(I17-B17)*24 -> 0
A18: 8. | I18: =((MOD(D18-C18,1))+(MOD(F18-E18,1))+(MOD(H18-G18,1))) -> 0 | J18: =(I18-B18)*24 -> 0
A19: 9. | I19: =((MOD(D19-C19,1))+(MOD(F19-E19,1))+(MOD(H19-G19,1))) -> 0 | J19: =(I19-B19)*24 -> 0
A20: 10. | I20: =((MOD(D20-C20,1))+(MOD(F20-E20,1))+(MOD(H20-G20,1))) -> 0 | J20: =(I20-B20)*24 -> 0
A21: 11. | I21: =((MOD(D21-C21,1))+(MOD(F21-E21,1))+(MOD(H21-G21,1))) -> 0 | J21: =(I21-B21)*24 -> 0
A22: 12. | I22: =((MOD(D22-C22,1))+(MOD(F22-E22,1))+(MOD(H22-G22,1))) -> 0 | J22: =(I22-B22)*24 -> 0
... A39: 29. | I39: =((MOD(D39-C39,1))+(MOD(F39-E39,1))+(MOD(H39-G39,1))) -> 0 | J39: =(I39-B39)*24 -> 0
G40: Gesamt Monat | I40: =SUM(I11:I39) -> 0 | J40: =SUM(J11:J39) -> 0
A42: Ort und Datum | G42: Zeitguthaben neu - Übertrag Folgemonat (Dezimal) | J42: =J7+J40 -> 0 | L42: =ROUNDDOWN(J42,0) -> 0
G43: Das sind | I43: Stunden: | J43: =L42 -> 0 | L43: =J42-L42 -> 0
I44: und Minuten: | J44: =ROUND(L44,0) -> 0 | L44: =L43*60 -> 0
A45: Unterschrift Arbeitgeber
A49: Unterschrift Mitarbeiter/in

Sheet März
A1: Arbeitszeitkonto | I1: Monat/Jahr | J1: 45352
A3: Arbeitgeber: | B3: =Januar!B3 -> 0
A5: Name: | B5: =Januar!B5 -> 0 | F5: Vorname: | G5: =Januar!G5 -> 0
A6: Tätigkeit: | B6: =Januar!B6 -> 0
A7: vereinbarte durchschnittliche wöchentliche Arbeitszeit: | C7: dezimal | D7: =Januar!D7 -> 39 | E7: das entspricht in Std./Minuten: | G7: =D7/24 -> 1.625 | I7: Zeitguthaben Vormonat (Dezimal) | J7: =Februar!J42 -> 0
B9: Arbeitszeit (Soll) | C9: Mitarbeiter kommt/geht (Uhrzeit) - ohne Pause - 1. Abschnitt | E9: Mitarbeiter kommt/geht (Uhrzeit) - ohne Pause - 2. Abschnitt | G9: Mitarbeiter kommt/geht (Uhrzeit) - ohne Pause - 3. Abschnitt | I9: Summen (Ist) täglich / gesamt ohne Pausen | J9: Saldo Soll / Ist | L9: Bemerkungen
A10: Datum | B10: Std. / Minuten | C10: von | D10: bis | E10: von | F10: bis | G10: von | H10: bis | I10: Std. / Minuten | J10: Dezimal
A11: 1. | I11: =((MOD(D11-C11,1))+(MOD(F11-E11,1))+(MOD(H11-G11,1))) -> 0 | J11: =(I11-B11)*24 -> 0
A12: 2. | I12: =((MOD(D12-C12,1))+(MOD(F12-E12,1))+(MOD(H12-G12,1))) -> 0 | J12: =(I12-B12)*24 -> 0
A13: 3. | I13: =((MOD(D13-C13,1))+(MOD(F13-E13,1))+(MOD(H13-G13,1))) -> 0 | J13: =(I13-B13)*24 -> 0
A14: 4. | I14: =((MOD(D14-C14,1))+(MOD(F14-E14,1))+(MOD(H14-G14,1))) -> 0 | J14: =(I14-B14)*24 -> 0
A15: 5. | I15: =((MOD(D15-C15,1))+(MOD(F15-E15,1))+(MOD(H15-G15,1))) -> 0 | J15: =(I15-B15)*24 -> 0
A16: 6. | I16: =((MOD(D16-C16,1))+(MOD(F16-E16,1))+(MOD(H16-G16,1))) -> 0 | J16: =(I16-B16)*24 -> 0
A17: 7. | I17: =((MOD(D17-C17,1))+(MOD(F17-E17,1))+(MOD(H17-G17,1))) -> 0 | J17: =(I17-B17)*24 -> 0
A18: 8. | I18: =((MOD(D18-C18,1))+(MOD(F18-E18,1))+(MOD(H18-G18,1))) -> 0 | J18: =(I18-B18)*24 -> 0
A19: 9. | I19: =((MOD(D19-C19,1))+(MOD(F19-E19,1))+(MOD(H19-G19,1))) -> 0 | J19: =(I19-B19)*24 -> 0
A20: 10. | I20: =((MOD(D20-C20,1))+(MOD(F20-E20,1))+(MOD(H20-G20,1))) -> 0 | J20: =(I20-B20)*24 -> 0
A21: 11. | I21: =((MOD(D21-C21,1))+(MOD(F21-E21,1))+(MOD(H21-G21,1))) -> 0 | J21: =(I21-B21)*24 -> 0
A22: 12. | I22: =((MOD(D22-C22,1))+(MOD(F22-E22,1))+(MOD(H22-G22,1))) -> 0 | J22: =(I22-B22)*24 -> 0
... A41: 31. | I41: =((MOD(D41-C41,1))+(MOD(F41-E41,1))+(MOD(H41-G41,1))) -> 0 | J41: =(I41-B41)*24 -> 0
G42: Gesamt Monat | I42: =SUM(I11:I41) -> 0 | J42: =SUM(J11:J41) -> 0
L43: Nebenrechnung
A44: Ort und Datum | G44: Zeitguthaben neu - Übertrag Folgemonat (Dezimal) | J44: =J7+J42 -> 0 | L44: =ROUNDDOWN(J44,0) -> 0
G45: Das sind | I45: Stunden: | J45: =L44 -> 0 | L45: =J44-L44 -> 0
I46: und Minuten: | J46: =ROUND(L46,0) -> 0 | L46: =L45*60 -> 0
A47: Unterschrift Arbeitgeber
A51: Unterschrift Mitarbeiter/in

Sheet April
A1: Arbeitszeitkonto | I1: Monat/Jahr | J1: 45383
A3: Arbeitgeber: | B3: =Januar!B3 -> 0
A5: Name: | B5: =Januar!B5 -> 0 | F5: Vorname: | G5: =Januar!G5 -> 0
A6: Tätigkeit: | B6: =Januar!B6 -> 0
A7: vereinbarte durchschnittliche wöchentliche Arbeitszeit: | C7: dezimal | D7: =Januar!D7 -> 39 | E7: das entspricht in Std./Minuten: | G7: =D7/24 -> 1.625 | I7: Zeitguthaben Vormonat (Dezimal) | J7: =März!J44 -> 0
B9: Arbeitszeit (Soll) | C9: Mitarbeiter kommt/geht (Uhrzeit) - ohne Pause - 1. Abschnitt | E9: Mitarbeiter kommt/geht (Uhrzeit) - ohne Pause - 2. Abschnitt | G9: Mitarbeiter kommt/geht (Uhrzeit) - ohne Pause - 3. Abschnitt | I9: Summen (Ist) täglich / gesamt ohne Pausen | J9: Saldo Soll / Ist | L9: Bemerkungen
A10: Datum | B10: Std. / Minuten | C10: von | D10: bis | E10: von | F10: bis | G10: von | H10: bis | I10: Std. / Minuten | J10: Dezimal
A11: 1. | I11: =((MOD(D11-C11,1))+(MOD(F11-E11,1))+(MOD(H11-G11,1))) -> 0 | J11: =(I11-B11)*24 -> 0
A12: 2. | I12: =((MOD(D12-C12,1))+(MOD(F12-E12,1))+(MOD(H12-G12,1))) -> 0 | J12: =(I12-B12)*24 -> 0
A13: 3. | I13: =((MOD(D13-C13,1))+(MOD(F13-E13,1))+(MOD(H13-G13,1))) -> 0 | J13: =(I13-B13)*24 -> 0
A14: 4. | I14: =((MOD(D14-C14,1))+(MOD(F14-E14,1))+(MOD(H14-G14,1))) -> 0 | J14: =(I14-B14)*24 -> 0
A15: 5. | I15: =((MOD(D15-C15,1))+(MOD(F15-E15,1))+(MOD(H15-G15,1))) -> 0 | J15: =(I15-B15)*24 -> 0
A16: 6. | I16: =((MOD(D16-C16,1))+(MOD(F16-E16,1))+(MOD(H16-G16,1))) -> 0 | J16: =(I16-B16)*24 -> 0
A17: 7. | I17: =((MOD(D17-C17,1))+(MOD(F17-E17,1))+(MOD(H17-G17,1))) -> 0 | J17: =(I17-B17)*24 -> 0
A18: 8. | I18: =((MOD(D18-C18,1))+(MOD(F18-E18,1))+(MOD(H18-G18,1))) -> 0 | J18: =(I18-B18)*24 -> 0
A19: 9. | I19: =((MOD(D19-C19,1))+(MOD(F19-E19,1))+(MOD(H19-G19,1))) -> 0 | J19: =(I19-B19)*24 -> 0
A20: 10. | I20: =((MOD(D20-C20,1))+(MOD(F20-E20,1))+(MOD(H20-G20,1))) -> 0 | J20: =(I20-B20)*24 -> 0
A21: 11. | I21: =((MOD(D21-C21,1))+(MOD(F21-E21,1))+(MOD(H21-G21,1))) -> 0 | J21: =(I21-B21)*24 -> 0
A22: 12. | I22: =((MOD(D22-C22,1))+(MOD(F22-E22,1))+(MOD(H22-G22,1))) -> 0 | J22: =(I22-B22)*24 -> 0
... A40: 30. | I40: =((MOD(D40-C40,1))+(MOD(F40-E40,1))+(MOD(H40-G40,1))) -> 0 | J40: =(I40-B40)*24 -> 0
G41: Gesamt Monat | I41: =SUM(I11:I40) -> 0 | J41: =SUM(J11:J40) -> 0
L42: Nebenrechnung
A43: Ort und Datum | G43: Zeitguthaben neu - Übertrag Folgemonat (Dezimal) | J43: =J7+J41 -> 0 | L43: =ROUNDDOWN(J43,0) -> 0
G44: Das sind | I44: Stunden: | J44: =L43 -> 0 | L44: =J43-L43 -> 0
I45: und Minuten: | J45: =ROUND(L45,0) -> 0 | L45: =L44*60 -> 0
A46: Unterschrift Arbeitgeber
A50: Unterschrift Mitarbeiter/in

Sheet Mai
A1: Arbeitszeitkonto | I1: Monat/Jahr | J1: 45413
A3: Arbeitgeber: | B3: =Januar!B3 -> 0
A5: Name: | B5: =Januar!B5 -> 0 | F5: Vorname: | G5: =Januar!G5 -> 0
A6: Tätigkeit: | B6: =Januar!B6 -> 0
A7: vereinbarte durchschnittliche wöchentliche Arbeitszeit: | C7: dezimal | D7: =Januar!D7 -> 39 | E7: das entspricht in Std./Minuten: | G7: =D7/24 -> 1.625 | I7: Zeitguthaben Vormonat (Dezimal) | J7: =April!J43 -> 0
B9: Arbeitszeit (Soll) | C9: Mitarbeiter kommt/geht (Uhrzeit) - ohne Pause - 1. Abschnitt | E9: Mitarbeiter kommt/geht (Uhrzeit) - ohne Pause - 2. Abschnitt | G9: Mitarbeiter kommt/geht (Uhrzeit) - ohne Pause - 3. Abschnitt | I9: Summen (Ist) täglich / gesamt ohne Pausen | J9: Saldo Soll / Ist | L9: Bemerkungen
A10: Datum | B10: Std. / Minuten | C10: von | D10: bis | E10: von | F10: bis | G10: von | H10: bis | I10: Std. / Minuten | J10: Dezimal
A11: 1. | I11: =((MOD(D11-C11,1))+(MOD(F11-E11,1))+(MOD(H11-G11,1))) -> 0 | J11: =(I11-B11)*24 -> 0
A12: 2. | I12: =((MOD(D12-C12,1))+(MOD(F12-E12,1))+(MOD(H12-G12,1))) -> 0 | J12: =(I12-B12)*24 -> 0
A13: 3. | I13: =((MOD(D13-C13,1))+(MOD(F13-E13,1))+(MOD(H13-G13,1))) -> 0 | J13: =(I13-B13)*24 -> 0
A14: 4. | I14: =((MOD(D14-C14,1))+(MOD(F14-E14,1))+(MOD(H14-G14,1))) -> 0 | J14: =(I14-B14)*24 -> 0
A15: 5. | I15: =((MOD(D15-C15,1))+(MOD(F15-E15,1))+(MOD(H15-G15,1))) -> 0 | J15: =(I15-B15)*24 -> 0
A16: 6. | I16: =((MOD(D16-C16,1))+(MOD(F16-E16,1))+(MOD(H16-G16,1))) -> 0 | J16: =(I16-B16)*24 -> 0
A17: 7. | I17: =((MOD(D17-C17,1))+(MOD(F17-E17,1))+(MOD(H17-G17,1))) -> 0 | J17: =(I17-B17)*24 -> 0
A18: 8. | I18: =((MOD(D18-C18,1))+(MOD(F18-E18,1))+(MOD(H18-G18,1))) -> 0 | J18: =(I18-B18)*24 -> 0
A19: 9. | I19: =((MOD(D19-C19,1))+(MOD(F19-E19,1))+(MOD(H19-G19,1))) -> 0 | J19: =(I19-B19)*24 -> 0
A20: 10. | I20: =((MOD(D20-C20,1))+(MOD(F20-E20,1))+(MOD(H20-G20,1))) -> 0 | J20: =(I20-B20)*24 -> 0
A21: 11. | I21: =((MOD(D21-C21,1))+(MOD(F21-E21,1))+(MOD(H21-G21,1))) -> 0 | J21: =(I21-B21)*24 -> 0
A22: 12. | I22: =((MOD(D22-C22,1))+(MOD(F22-E22,1))+(MOD(H22-G22,1))) -> 0 | J22: =(I22-B22)*24 -> 0
... A41: 31. | I41: =((MOD(D41-C41,1))+(MOD(F41-E41,1))+(MOD(H41-G41,1))) -> 0 | J41: =(I41-B41)*24 -> 0
G42: Gesamt Monat | I42: =SUM(I11:I41) -> 0 | J42: =SUM(J11:J41) -> 0
L43: Nebenrechnung
A44: Ort und Datum | G44: Zeitguthaben neu - Übertrag Folgemonat (Dezimal) | J44: =J7+J42 -> 0 | L44: =ROUNDDOWN(J44,0) -> 0
G45: Das sind | I45: Stunden: | J45: =L44 -> 0 | L45: =J44-L44 -> 0
I46: und Minuten: | J46: =ROUND(L46,0) -> 0 | L46: =L45*60 -> 0
A47: Unterschrift Arbeitgeber
A51: Unterschrift Mitarbeiter/in

Sheet Juni
A1: Arbeitszeitkonto | I1: Monat/Jahr | J1: 45444
A3: Arbeitgeber: | B3: =Januar!B3 -> 0
A5: Name: | B5: =Januar!B5 -> 0 | F5: Vorname: | G5: =Januar!G5 -> 0
A6: Tätigkeit: | B6: =Januar!B6 -> 0
A7: vereinbarte durchschnittliche wöchentliche Arbeitszeit: | C7: dezimal | D7: =Januar!D7 -> 39 | E7: das entspricht in Std./Minuten: | G7: =D7/24 -> 1.625 | I7: Zeitguthaben Vormonat (Dezimal) | J7: =Mai!J44 -> 0
B9: Arbeitszeit (Soll) | C9: Mitarbeiter kommt/geht (Uhrzeit) - ohne Pause - 1. Abschnitt | E9: Mitarbeiter kommt/geht (Uhrzeit) - ohne Pause - 2. Abschnitt | G9: Mitarbeiter kommt/geht (Uhrzeit) - ohne Pause - 3. Abschnitt | I9: Summen (Ist) täglich / gesamt ohne Pausen | J9: Saldo Soll / Ist | L9: Bemerkungen
A10: Datum | B10: Std. / Minuten | C10: von | D10: bis | E10: von | F10: bis | G10: von | H10: bis | I10: Std. / Minuten | J10: Dezimal
A11: 1. | I11: =((MOD(D11-C11,1))+(MOD(F11-E11,1))+(MOD(H11-G11,1))) -> 0 | J11: =(I11-B11)*24 -> 0
A12: 2. | I12: =((MOD(D12-C12,1))+(MOD(F12-E12,1))+(MOD(H12-G12,1))) -> 0 | J12: =(I12-B12)*24 -> 0
A13: 3. | I13: =((MOD(D13-C13,1))+(MOD(F13-E13,1))+(MOD(H13-G13,1))) -> 0 | J13: =(I13-B13)*24 -> 0
A14: 4. | I14: =((MOD(D14-C14,1))+(MOD(F14-E14,1))+(MOD(H14-G14,1))) -> 0 | J14: =(I14-B14)*24 -> 0
A15: 5. | I15: =((MOD(D15-C15,1))+(MOD(F15-E15,1))+(MOD(H15-G15,1))) -> 0 | J15: =(I15-B15)*24 -> 0
A16: 6. | I16: =((MOD(D16-C16,1))+(MOD(F16-E16,1))+(MOD(H16-G16,1))) -> 0 | J16: =(I16-B16)*24 -> 0
A17: 7. | I17: =((MOD(D17-C17,1))+(MOD(F17-E17,1))+(MOD(H17-G17,1))) -> 0 | J17: =(I17-B17)*24 -> 0
A18: 8. | I18: =((MOD(D18-C18,1))+(MOD(F18-E18,1))+(MOD(H18-G18,1))) -> 0 | J18: =(I18-B18)*24 -> 0
A19: 9. | I19: =((MOD(D19-C19,1))+(MOD(F19-E19,1))+(MOD(H19-G19,1))) -> 0 | J19: =(I19-B19)*24 -> 0
A20: 10. | I20: =((MOD(D20-C20,1))+(MOD(F20-E20,1))+(MOD(H20-G20,1))) -> 0 | J20: =(I20-B20)*24 -> 0
A21: 11. | I21: =((MOD(D21-C21,1))+(MOD(F21-E21,1))+(MOD(H21-G21,1))) -> 0 | J21: =(I21-B21)*24 -> 0
A22: 12. | I22: =((MOD(D22-C22,1))+(MOD(F22-E22,1))+(MOD(H22-G22,1))) -> 0 | J22: =(I22-B22)*24 -> 0
... A40: 30. | I40: =((MOD(D40-C40,1))+(MOD(F40-E40,1))+(MOD(H40-G40,1))) -> 0 | J40: =(I40-B40)*24 -> 0
G41: Gesamt Monat | I41: =SUM(I11:I40) -> 0 | J41: =SUM(J11:J40) -> 0
L42: Nebenrechnung
A43: Ort und Datum | G43: Zeitguthaben neu - Übertrag Folgemonat (Dezimal) | J43: =J7+J41 -> 0 | L43: =ROUNDDOWN(J43,0) -> 0
G44: Das sind | I44: Stunden: | J44: =L43 -> 0 | L44: =J43-L43 -> 0
I45: und Minuten: | J45: =ROUND(L45,0) -> 0 | L45: =L44*60 -> 0
A46: Unterschrift Arbeitgeber
A50: Unterschrift Mitarbeiter/in

Sheet Juli
A1: Arbeitszeitkonto | I1: Monat/Jahr | J1: 45474
A3: Arbeitgeber: | B3: =Januar!B3 -> 0
A5: Name: | B5: =Januar!B5 -> 0 | F5: Vorname: | G5: =Januar!G5 -> 0
A6: Tätigkeit: | B6: =Januar!B6 -> 0
A7: vereinbarte durchschnittliche wöchentliche Arbeitszeit: | C7: dezimal | D7: =Januar!D7 -> 39 | E7: das entspricht in Std./Minuten: | G7: =D7/24 -> 1.625 | I7: Zeitguthaben Vormonat (Dezimal) | J7: =Juni!J43 -> 0
B9: Arbeitszeit (Soll) | C9: Mitarbeiter kommt/geht (Uhrzeit) - ohne Pause - 1. Abschnitt | E9: Mitarbeiter kommt/geht (Uhrzeit) - ohne Pause - 2. Abschnitt | G9: Mitarbeiter kommt/geht (Uhrzeit) - ohne Pause - 3. Abschnitt | I9: Summen (Ist) täglich / gesamt ohne Pausen | J9: Saldo Soll / Ist | L9: Bemerkungen
A10: Datum | B10: Std. / Minuten | C10: von | D10: bis | E10: von | F10: bis | G10: von | H10: bis | I10: Std. / Minuten | J10: Dezimal
A11: 1. | I11: =((MOD(D11-C11,1))+(MOD(F11-E11,1))+(MOD(H11-G11,1))) -> 0 | J11: =(I11-B11)*24 -> 0
A12: 2. | I12: =((MOD(D12-C12,1))+(MOD(F12-E12,1))+(MOD(H12-G12,1))) -> 0 | J12: =(I12-B12)*24 -> 0
A13: 3. | I13: =((MOD(D13-C13,1))+(MOD(F13-E13,1))+(MOD(H13-G13,1))) -> 0 | J13: =(I13-B13)*24 -> 0
A14: 4. | I14: =((MOD(D14-C14,1))+(MOD(F14-E14,1))+(MOD(H14-G14,1))) -> 0 | J14: =(I14-B14)*24 -> 0
A15: 5. | I15: =((MOD(D15-C15,1))+(MOD(F15-E15,1))+(MOD(H15-G15,1))) -> 0 | J15: =(I15-B15)*24 -> 0
A16: 6. | I16: =((MOD(D16-C16,1))+(MOD(F16-E16,1))+(MOD(H16-G16,1))) -> 0 | J16: =(I16-B16)*24 -> 0
A17: 7. | I17: =((MOD(D17-C17,1))+(MOD(F17-E17,1))+(MOD(H17-G17,1))) -> 0 | J17: =(I17-B17)*24 -> 0
A18: 8. | I18: =((MOD(D18-C18,1))+(MOD(F18-E18,1))+(MOD(H18-G18,1))) -> 0 | J18: =(I18-B18)*24 -> 0
A19: 9. | I19: =((MOD(D19-C19,1))+(MOD(F19-E19,1))+(MOD(H19-G19,1))) -> 0 | J19: =(I19-B19)*24 -> 0
A20: 10. | I20: =((MOD(D20-C20,1))+(MOD(F20-E20,1))+(MOD(H20-G20,1))) -> 0 | J20: =(I20-B20)*24 -> 0
A21: 11. | I21: =((MOD(D21-C21,1))+(MOD(F21-E21,1))+(MOD(H21-G21,1))) -> 0 | J21: =(I21-B21)*24 -> 0
A22: 12. | I22: =((MOD(D22-C22,1))+(MOD(F22-E22,1))+(MOD(H22-G22,1))) -> 0 | J22: =(I22-B22)*24 -> 0
... A41: 31. | I41: =((MOD(D41-C41,1))+(MOD(F41-E41,1))+(MOD(H41-G41,1))) -> 0 | J41: =(I41-B41)*24 -> 0
G42: Gesamt Monat | I42: =SUM(I11:I41) -> 0 | J42: =SUM(J11:J41) -> 0
L43: Nebenrechnung
A44: Ort und Datum | G44: Zeitguthaben neu - Übertrag Folgemonat (Dezimal) | J44: =J7+J42 -> 0 | L44: =ROUNDDOWN(J44,0) -> 0
G45: Das sind | I45: Stunden: | J45: =L44 -> 0 | L45: =J44-L44 -> 0
I46: und Minuten: | J46: =ROUND(L46,0) -> 0 | L46: =L45*60 -> 0
A47: Unterschrift Arbeitgeber
A51: Unterschrift Mitarbeiter/in

Sheet August
A1: Arbeitszeitkonto | I1: Monat/Jahr | J1: 45505
A3: Arbeitgeber: | B3: =Januar!B3 -> 0
A5: Name: | B5: =Januar!B5 -> 0 | F5: Vorname: | G5: =Januar!G5 -> 0
A6: Tätigkeit: | B6: =Januar!B6 -> 0
A7: vereinbarte durchschnittliche wöchentliche Arbeitszeit: | C7: dezimal | D7: =Januar!D7 -> 39 | E7: das entspricht in Std./Minuten: | G7: =D7/24 -> 1.625 | I7: Zeitguthaben Vormonat (Dezimal) | J7: =Juli!J44 -> 0
B9: Arbeitszeit (Soll) | C9: Mitarbeiter kommt/geht (Uhrzeit) - ohne Pause - 1. Abschnitt | E9: Mitarbeiter kommt/geht (Uhrzeit) - ohne Pause - 2. Abschnitt | G9: Mitarbeiter kommt/geht (Uhrzeit) - ohne Pause - 3. Abschnitt | I9: Summen (Ist) täglich / gesamt ohne Pausen | J9: Saldo Soll / Ist | L9: Bemerkungen
A10: Datum | B10: Std. / Minuten | C10: von | D10: bis | E10: von | F10: bis | G10: von | H10: bis | I10: Std. / Minuten | J10: Dezimal
A11: 1. | I11: =((MOD(D11-C11,1))+(MOD(F11-E11,1))+(MOD(H11-G11,1))) -> 0 | J11: =(I11-B11)*24 -> 0
A12: 2. | I12: =((MOD(D12-C12,1))+(MOD(F12-E12,1))+(MOD(H12-G12,1))) -> 0 | J12: =(I12-B12)*24 -> 0
A13: 3. | I13: =((MOD(D13-C13,1))+(MOD(F13-E13,1))+(MOD(H13-G13,1))) -> 0 | J13: =(I13-B13)*24 -> 0
A14: 4. | I14: =((MOD(D14-C14,1))+(MOD(F14-E14,1))+(MOD(H14-G14,1))) -> 0 | J14: =(I14-B14)*24 -> 0
A15: 5. | I15: =((MOD(D15-C15,1))+(MOD(F15-E15,1))+(MOD(H15-G15,1))) -> 0 | J15: =(I15-B15)*24 -> 0
A16: 6. | I16: =((MOD(D16-C16,1))+(MOD(F16-E16,1))+(MOD(H16-G16,1))) -> 0 | J16: =(I16-B16)*24 -> 0
A17: 7. | I17: =((MOD(D17-C17,1))+(MOD(F17-E17,1))+(MOD(H17-G17,1))) -> 0 | J17: =(I17-B17)*24 -> 0
A18: 8. | I18: =((MOD(D18-C18,1))+(MOD(F18-E18,1))+(MOD(H18-G18,1))) -> 0 | J18: =(I18-B18)*24 -> 0
A19: 9. | I19: =((MOD(D19-C19,1))+(MOD(F19-E19,1))+(MOD(H19-G19,1))) -> 0 | J19: =(I19-B19)*24 -> 0
A20: 10. | I20: =((MOD(D20-C20,1))+(MOD(F20-E20,1))+(MOD(H20-G20,1))) -> 0 | J20: =(I20-B20)*24 -> 0
A21: 11. | I21: =((MOD(D21-C21,1))+(MOD(F21-E21,1))+(MOD(H21-G21,1))) -> 0 | J21: =(I21-B21)*24 -> 0
A22: 12. | I22: =((MOD(D22-C22,1))+(MOD(F22-E22,1))+(MOD(H22-G22,1))) -> 0 | J22: =(I22-B22)*24 -> 0
... A41: 31. | I41: =((MOD(D41-C41,1))+(MOD(F41-E41,1))+(MOD(H41-G41,1))) -> 0 | J41: =(I41-B41)*24 -> 0
G42: Gesamt Monat | I42: =SUM(I11:I41) -> 0 | J42: =SUM(J11:J41) -> 0
L43: Nebenrechnung
A44: Ort und Datum | G44: Zeitguthaben neu - Übertrag Folgemonat (Dezimal) | J44: =J7+J42 -> 0 | L44: =ROUNDDOWN(J44,0) -> 0
G45: Das sind | I45: Stunden: | J45: =L44 -> 0 | L45: =J44-L44 -> 0
I46: und Minuten: | J46: =ROUND(L46,0) -> 0 | L46: =L45*60 -> 0
A47: Unterschrift Arbeitgeber
A51: Unterschrift Mitarbeiter/in

Sheet September
A1: Arbeitszeitkonto | I1: Monat/Jahr | J1: 45536
A3: Arbeitgeber: | B3: =Januar!B3 -> 0
A5: Name: | B5: =Januar!B5 -> 0 | F5: Vorname: | G5: =Januar!G5 -> 0
A6: Tätigkeit: | B6: =Januar!B6 -> 0
A7: vereinbarte durchschnittliche wöchentliche Arbeitszeit: | C7: dezimal | D7: =Januar!D7 -> 39 | E7: das entspricht in Std./Minuten: | G7: =D7/24 -> 1.625 | I7: Zeitguthaben Vormonat (Dezimal) | J7: =August!J44 -> 0
B9: Arbeitszeit (Soll) | C9: Mitarbeiter kommt/geht (Uhrzeit) - ohne Pause - 1. Abschnitt | E9: Mitarbeiter kommt/geht (Uhrzeit) - ohne Pause - 2. Abschnitt | G9: Mitarbeiter kommt/geht (Uhrzeit) - ohne Pause - 3. Abschnitt | I9: Summen (Ist) täglich / gesamt ohne Pausen | J9: Saldo Soll / Ist | L9: Bemerkungen
A10: Datum | B10: Std. / Minuten | C10: von | D10: bis | E10: von | F10: bis | G10: von | H10: bis | I10: Std. / Minuten | J10: Dezimal
A11: 1. | I11: =((MOD(D11-C11,1))+(MOD(F11-E11,1))+(MOD(H11-G11,1))) -> 0 | J11: =(I11-B11)*24 -> 0
A12: 2. | I12: =((MOD(D12-C12,1))+(MOD(F12-E12,1))+(MOD(H12-G12,1))) -> 0 | J12: =(I12-B12)*24 -> 0
A13: 3. | I13: =((MOD(D13-C13,1))+(MOD(F13-E13,1))+(MOD(H13-G13,1))) -> 0 | J13: =(I13-B13)*24 -> 0
A14: 4. | I14: =((MOD(D14-C14,1))+(MOD(F14-E14,1))+(MOD(H14-G14,1))) -> 0 | J14: =(I14-B14)*24 -> 0
A15: 5. | I15: =((MOD(D15-C15,1))+(MOD(F15-E15,1))+(MOD(H15-G15,1))) -> 0 | J15: =(I15-B15)*24 -> 0
A16: 6. | I16: =((MOD(D16-C16,1))+(MOD(F16-E16,1))+(MOD(H16-G16,1))) -> 0 | J16: =(I16-B16)*24 -> 0
A17: 7. | I17: =((MOD(D17-C17,1))+(MOD(F17-E17,1))+(MOD(H17-G17,1))) -> 0 | J17: =(I17-B17)*24 -> 0
A18: 8. | I18: =((MOD(D18-C18,1))+(MOD(F18-E18,1))+(MOD(H18-G18,1))) -> 0 | J18: =(I18-B18)*24 -> 0
A19: 9. | I19: =((MOD(D19-C19,1))+(MOD(F19-E19,1))+(MOD(H19-G19,1))) -> 0 | J19: =(I19-B19)*24 -> 0
A20: 10. | I20: =((MOD(D20-C20,1))+(MOD(F20-E20,1))+(MOD(H20-G20,1))) -> 0 | J20: =(I20-B20)*24 -> 0
A21: 11. | I21: =((MOD(D21-C21,1))+(MOD(F21-E21,1))+(MOD(H21-G21,1))) -> 0 | J21: =(I21-B21)*24 -> 0
A22: 12. | I22: =((MOD(D22-C22,1))+(MOD(F22-E22,1))+(MOD(H22-G22,1))) -> 0 | J22: =(I22-B22)*24 -> 0
... A40: 30. | I40: =((MOD(D40-C40,1))+(MOD(F40-E40,1))+(MOD(H40-G40,1))) -> 0 | J40: =(I40-B40)*24 -> 0
G41: Gesamt Monat | I41: =SUM(I11:I40) -> 0 | J41: =SUM(J11:J40) -> 0
L42: Nebenrechnung
A43: Ort und Datum | G43: Zeitguthaben neu - Übertrag Folgemonat (Dezimal) | J43: =J7+J41 -> 0 | L43: =ROUNDDOWN(J43,0) -> 0
G44: Das sind | I44: Stunden: | J44: =L43 -> 0 | L44: =J43-L43 -> 0
I45: und Minuten: | J45: =ROUND(L45,0) -> 0 | L45: =L44*60 -> 0
A46: Unterschrift Arbeitgeber
A50: Unterschrift Mitarbeiter/in

Sheet Oktober
A1: Arbeitszeitkonto | I1: Monat/Jahr | J1: 45566
A3: Arbeitgeber: | B3: =Januar!B3 -> 0
A5: Name: | B5: =Januar!B5 -> 0 | F5: Vorname: | G5: =Januar!G5 -> 0
A6: Tätigkeit: | B6: =Januar!B6 -> 0
A7: vereinbarte durchschnittliche wöchentliche Arbeitszeit: | C7: dezimal | D7: =Januar!D7 -> 39 | E7: das entspricht in Std./Minuten: | G7: =D7/24 -> 1.625 | I7: Zeitguthaben Vormonat (Dezimal) | J7: =September!J43 -> 0
B9: Arbeitszeit (Soll) | C9: Mitarbeiter kommt/geht (Uhrzeit) - ohne Pause - 1. Abschnitt | E9: Mitarbeiter kommt/geht (Uhrzeit) - ohne Pause - 2. Abschnitt | G9: Mitarbeiter kommt/geht (Uhrzeit) - ohne Pause - 3. Abschnitt | I9: Summen (Ist) täglich / gesamt ohne Pausen | J9: Saldo Soll / Ist | L9: Bemerkungen
A10: Datum | B10: Std. / Minuten | C10: von | D10: bis | E10: von | F10: bis | G10: von | H10: bis | I10: Std. / Minuten | J10: Dezimal
A11: 1. | I11: =((MOD(D11-C11,1))+(MOD(F11-E11,1))+(MOD(H11-G11,1))) -> 0 | J11: =(I11-B11)*24 -> 0
A12: 2. | I12: =((MOD(D12-C12,1))+(MOD(F12-E12,1))+(MOD(H12-G12,1))) -> 0 | J12: =(I12-B12)*24 -> 0
A13: 3. | I13: =((MOD(D13-C13,1))+(MOD(F13-E13,1))+(MOD(H13-G13,1))) -> 0 | J13: =(I13-B13)*24 -> 0
A14: 4. | I14: =((MOD(D14-C14,1))+(MOD(F14-E14,1))+(MOD(H14-G14,1))) -> 0 | J14: =(I14-B14)*24 -> 0
A15: 5. | I15: =((MOD(D15-C15,1))+(MOD(F15-E15,1))+(MOD(H15-G15,1))) -> 0 | J15: =(I15-B15)*24 -> 0
A16: 6. | I16: =((MOD(D16-C16,1))+(MOD(F16-E16,1))+(MOD(H16-G16,1))) -> 0 | J16: =(I16-B16)*24 -> 0
A17: 7. | I17: =((MOD(D17-C17,1))+(MOD(F17-E17,1))+(MOD(H17-G17,1))) -> 0 | J17: =(I17-B17)*24 -> 0
A18: 8. | I18: =((MOD(D18-C18,1))+(MOD(F18-E18,1))+(MOD(H18-G18,1))) -> 0 | J18: =(I18-B18)*24 -> 0
A19: 9. | I19: =((MOD(D19-C19,1))+(MOD(F19-E19,1))+(MOD(H19-G19,1))) -> 0 | J19: =(I19-B19)*24 -> 0
A20: 10. | I20: =((MOD(D20-C20,1))+(MOD(F20-E20,1))+(MOD(H20-G20,1))) -> 0 | J20: =(I20-B20)*24 -> 0
A21: 11. | I21: =((MOD(D21-C21,1))+(MOD(F21-E21,1))+(MOD(H21-G21,1))) -> 0 | J21: =(I21-B21)*24 -> 0
A22: 12. | I22: =((MOD(D22-C22,1))+(MOD(F22-E22,1))+(MOD(H22-G22,1))) -> 0 | J22: =(I22-B22)*24 -> 0
... A41: 31. | I41: =((MOD(D41-C41,1))+(MOD(F41-E41,1))+(MOD(H41-G41,1))) -> 0 | J41: =(I41-B41)*24 -> 0
G42: Gesamt Monat | I42: =SUM(I11:I41) -> 0 | J42: =SUM(J11:J41) -> 0
L43: Nebenrechnung
A44: Ort und Datum | G44: Zeitguthaben neu - Übertrag Folgemonat (Dezimal) | J44: =J7+J42 -> 0 | L44: =ROUNDDOWN(J44,0) -> 0
G45: Das sind | I45: Stunden: | J45: =L44 -> 0 | L45: =J44-L44 -> 0
I46: und Minuten: | J46: =ROUND(L46,0) -> 0 | L46: =L45*60 -> 0
A47: Unterschrift Arbeitgeber
A51: Unterschrift Mitarbeiter/in

Sheet November
A1: Arbeitszeitkonto | I1: Monat/Jahr | J1: 45597
A3: Arbeitgeber: | B3: =Januar!B3 -> 0
A5: Name: | B5: =Januar!B5 -> 0 | F5: Vorname: | G5: =Januar!G5 -> 0
A6: Tätigkeit: | B6: =Januar!B6 -> 0
A7: vereinbarte durchschnittliche wöchentliche Arbeitszeit: | C7: dezimal | D7: =Januar!D7 -> 39 | E7: das entspricht in Std./Minuten: | G7: =D7/24 -> 1.625 | I7: Zeitguthaben Vormonat (Dezimal) | J7: =Oktober!J44 -> 0
B9: Arbeitszeit (Soll) | C9: Mitarbeiter kommt/geht (Uhrzeit) - ohne Pause - 1. Abschnitt | E9: Mitarbeiter kommt/geht (Uhrzeit) - ohne Pause - 2. Abschnitt | G9: Mitarbeiter kommt/geht (Uhrzeit) - ohne Pause - 3. Abschnitt | I9: Summen (Ist) täglich / gesamt ohne Pausen | J9: Saldo Soll / Ist | L9: Bemerkungen
A10: Datum | B10: Std. / Minuten | C10: von | D10: bis | E10: von | F10: bis | G10: von | H10: bis | I10: Std. / Minuten | J10: Dezimal
A11: 1. | I11: =((MOD(D11-C11,1))+(MOD(F11-E11,1))+(MOD(H11-G11,1))) -> 0 | J11: =(I11-B11)*24 -> 0
A12: 2. | I12: =((MOD(D12-C12,1))+(MOD(F12-E12,1))+(MOD(H12-G12,1))) -> 0 | J12: =(I12-B12)*24 -> 0
A13: 3. | I13: =((MOD(D13-C13,1))+(MOD(F13-E13,1))+(MOD(H13-G13,1))) -> 0 | J13: =(I13-B13)*24 -> 0
A14: 4. | I14: =((MOD(D14-C14,1))+(MOD(F14-E14,1))+(MOD(H14-G14,1))) -> 0 | J14: =(I14-B14)*24 -> 0
A15: 5. | I15: =((MOD(D15-C15,1))+(MOD(F15-E15,1))+(MOD(H15-G15,1))) -> 0 | J15: =(I15-B15)*24 -> 0
A16: 6. | I16: =((MOD(D16-C16,1))+(MOD(F16-E16,1))+(MOD(H16-G16,1))) -> 0 | J16: =(I16-B16)*24 -> 0
A17: 7. | I17: =((MOD(D17-C17,1))+(MOD(F17-E17,1))+(MOD(H17-G17,1))) -> 0 | J17: =(I17-B17)*24 -> 0
A18: 8. | I18: =((MOD(D18-C18,1))+(MOD(F18-E18,1))+(MOD(H18-G18,1))) -> 0 | J18: =(I18-B18)*24 -> 0
A19: 9. | I19: =((MOD(D19-C19,1))+(MOD(F19-E19,1))+(MOD(H19-G19,1))) -> 0 | J19: =(I19-B19)*24 -> 0
A20: 10. | I20: =((MOD(D20-C20,1))+(MOD(F20-E20,1))+(MOD(H20-G20,1))) -> 0 | J20: =(I20-B20)*24 -> 0
A21: 11. | I21: =((MOD(D21-C21,1))+(MOD(F21-E21,1))+(MOD(H21-G21,1))) -> 0 | J21: =(I21-B21)*24 -> 0
A22: 12. | I22: =((MOD(D22-C22,1))+(MOD(F22-E22,1))+(MOD(H22-G22,1))) -> 0 | J22: =(I22-B22)*24 -> 0
... A40: 30. | I40: =((MOD(D40-C40,1))+(MOD(F40-E40,1))+(MOD(H40-G40,1))) -> 0 | J40: =(I40-B40)*24 -> 0
G41: Gesamt Monat | I41: =SUM(I11:I40) -> 0 | J41: =SUM(J11:J40) -> 0
L42: Nebenrechnung
A43: Ort und Datum | G43: Zeitguthaben neu - Übertrag Folgemonat (Dezimal) | J43: =J7+J41 -> 0 | L43: =ROUNDDOWN(J43,0) -> 0
G44: Das sind | I44: Stunden: | J44: =L43 -> 0 | L44: =J43-L43 -> 0
I45: und Minuten: | J45: =ROUND(L45,0) -> 0 | L45: =L44*60 -> 0
A46: Unterschrift Arbeitgeber
A50: Unterschrift Mitarbeiter/in

Sheet Dezember
A1: Arbeitszeitkonto | I1: Monat/Jahr | J1: 45627
A3: Arbeitgeber: | B3: =Januar!B3 -> 0
A5: Name: | B5: =Januar!B5 -> 0 | F5: Vorname: | G5: =Januar!G5 -> 0
A6: Tätigkeit: | B6: =Januar!B6 -> 0
A7: vereinbarte durchschnittliche wöchentliche Arbeitszeit: | C7: dezimal | D7: =Januar!D7 -> 39 | E7: das entspricht in Std./Minuten: | G7: =D7/24 -> 1.625 | I7: Zeitguthaben Vormonat (Dezimal) | J7: =November!J43 -> 0
B9: Arbeitszeit (Soll) | C9: Mitarbeiter kommt/geht (Uhrzeit) - ohne Pause - 1. Abschnitt | E9: Mitarbeiter kommt/geht (Uhrzeit) - ohne Pause - 2. Abschnitt | G9: Mitarbeiter kommt/geht (Uhrzeit) - ohne Pause - 3. Abschnitt | I9: Summen (Ist) täglich / gesamt ohne Pausen | J9: Saldo Soll / Ist | L9: Bemerkungen
A10: Datum | B10: Std. / Minuten | C10: von | D10: bis | E10: von | F10: bis | G10: von | H10: bis | I10: Std. / Minuten | J10: Dezimal
A11: 1. | I11: =((MOD(D11-C11,1))+(MOD(F11-E11,1))+(MOD(H11-G11,1))) -> 0 | J11: =(I11-B11)*24 -> 0
A12: 2. | I12: =((MOD(D12-C12,1))+(MOD(F12-E12,1))+(MOD(H12-G12,1))) -> 0 | J12: =(I12-B12)*24 -> 0
A13: 3. | I13: =((MOD(D13-C13,1))+(MOD(F13-E13,1))+(MOD(H13-G13,1))) -> 0 | J13: =(I13-B13)*24 -> 0
A14: 4. | I14: =((MOD(D14-C14,1))+(MOD(F14-E14,1))+(MOD(H14-G14,1))) -> 0 | J14: =(I14-B14)*24 -> 0
A15: 5. | I15: =((MOD(D15-C15,1))+(MOD(F15-E15,1))+(MOD(H15-G15,1))) -> 0 | J15: =(I15-B15)*24 -> 0
A16: 6. | I16: =((MOD(D16-C16,1))+(MOD(F16-E16,1))+(MOD(H16-G16,1))) -> 0 | J16: =(I16-B16)*24 -> 0
A17: 7. | I17: =((MOD(D17-C17,1))+(MOD(F17-E17,1))+(MOD(H17-G17,1))) -> 0 | J17: =(I17-B17)*24 -> 0
A18: 8. | I18: =((MOD(D18-C18,1))+(MOD(F18-E18,1))+(MOD(H18-G18,1))) -> 0 | J18: =(I18-B18)*24 -> 0
A19: 9. | I19: =((MOD(D19-C19,1))+(MOD(F19-E19,1))+(MOD(H19-G19,1))) -> 0 | J19: =(I19-B19)*24 -> 0
A20: 10. | I20: =((MOD(D20-C20,1))+(MOD(F20-E20,1))+(MOD(H20-G20,1))) -> 0 | J20: =(I20-B20)*24 -> 0
A21: 11. | I21: =((MOD(D21-C21,1))+(MOD(F21-E21,1))+(MOD(H21-G21,1))) -> 0 | J21: =(I21-B21)*24 -> 0
A22: 12. | I22: =((MOD(D22-C22,1))+(MOD(F22-E22,1))+(MOD(H22-G22,1))) -> 0 | J22: =(I22-B22)*24 -> 0
... A41: 31. | I41: =((MOD(D41-C41,1))+(MOD(F41-E41,1))+(MOD(H41-G41,1))) -> 0 | J41: =(I41-B41)*24 -> 0
G42: Gesamt Monat | I42: =SUM(I11:I41) -> 0 | J42: =SUM(J11:J41) -> 0
L43: Nebenrechnung
A44: Ort und Datum | G44: Zeitguthaben neu - Übertrag Folgemonat (Dezimal) | J44: =J7+J42 -> 0 | L44: =ROUNDDOWN(J44,0) -> 0
G45: Das sind | I45: Stunden: | J45: =L44 -> 0 | L45: =J44-L44 -> 0
I46: und Minuten: | J46: =ROUND(L46,0) -> 0 | L46: =L45*60 -> 0
A47: Unterschrift Arbeitgeber
A51: Unterschrift Mitarbeiter/in
